BEGIN:VCALENDAR
VERSION:2.0
PRODID:-//https://j-r-i.de - ECPv6.15.20//NONSGML v1.0//EN
CALSCALE:GREGORIAN
METHOD:PUBLISH
X-ORIGINAL-URL:https://j-r-i.de
X-WR-CALDESC:Veranstaltungen für https://j-r-i.de
REFRESH-INTERVAL;VALUE=DURATION:PT1H
X-Robots-Tag:noindex
X-PUBLISHED-TTL:PT1H
BEGIN:VTIMEZONE
TZID:Europe/Berlin
BEGIN:DAYLIGHT
TZOFFSETFROM:+0100
TZOFFSETTO:+0200
TZNAME:CEST
DTSTART:20250330T010000
END:DAYLIGHT
BEGIN:STANDARD
TZOFFSETFROM:+0200
TZOFFSETTO:+0100
TZNAME:CET
DTSTART:20251026T010000
END:STANDARD
BEGIN:DAYLIGHT
TZOFFSETFROM:+0100
TZOFFSETTO:+0200
TZNAME:CEST
DTSTART:20260329T010000
END:DAYLIGHT
BEGIN:STANDARD
TZOFFSETFROM:+0200
TZOFFSETTO:+0100
TZNAME:CET
DTSTART:20261025T010000
END:STANDARD
BEGIN:DAYLIGHT
TZOFFSETFROM:+0100
TZOFFSETTO:+0200
TZNAME:CEST
DTSTART:20270328T010000
END:DAYLIGHT
BEGIN:STANDARD
TZOFFSETFROM:+0200
TZOFFSETTO:+0100
TZNAME:CET
DTSTART:20271031T010000
END:STANDARD
END:VTIMEZONE
BEGIN:VEVENT
DTSTART;TZID=Europe/Berlin:20260614T160000
DTEND;TZID=Europe/Berlin:20260614T190000
DTSTAMP:20260421T165338
CREATED:20250702T135630Z
LAST-MODIFIED:20260419T102953Z
UID:4741-1781452800-1781463600@j-r-i.de
SUMMARY:SS26 Psychoanalyse & Theater „Get into the Groove“ (Ballett)
DESCRIPTION:Leitung: Sabine Grosch-Kumbier\, Horst Kämpfer\, Maria Klauk\, Volker Trempler\, Martin Weimer \nPsychoanalyse und Theater-Nach(t)gedanken im Theater Kiel \nTheater und Psychoanalyse haben zwei Dinge gemeinsam: Sie beschäftigen sich mit dem\, was uns emotional und geistig bewegt\, erhebt oder belastet und sie bringen manch Unbewusstes\, Traumartiges aus dem Dunkel ans Licht. Wir wollen mit Besuchern (m/w/d) der Stücke eine knappe Stunde über das sprechen\, was sie und wir gesehen\, gedacht und gefühlt oder fantasiert haben\, zu welchen auch psychoanalytischen Einsichten wir und sie gekommen sind und somit unter Beachtung aller Sinne die persönlichen Erfahrungen runden. \nSS26-PA+T3 „Get into the Groove“ (Ballett im Opernhaus) \nSo\, 14.06.26 16:00 Uhr (1 Dstd.) \nZwei Choreographien: von Amilcar Moret Gonzales und Kevin O’Day \nBitte beachten Sie\, dass die angebenden Doppelstunden (DStd.) nicht den Zeitrahmen der Vorstellung\, sondern die Akkreditierungszeit für die Veranstaltung angibt! \nBeachten Sie außerdem\, dass Sie sich nicht anmelden müssen! Sie erwerben frühzeitig (!) z.B. unter www.theater-kiel.de Karten für die Vorstellungen und nehmen im Anschluss an unserer Runde teil. \nKarten: Get into the groove\n 
URL:https://j-r-i.de/event/ss26-psychoanalyse-theater-get-into-the-groove-ballett/
LOCATION:Opernhaus Kiel\, Rathausplatz 4\, Kiel\, 24103\, Deutschland
END:VEVENT
BEGIN:VEVENT
DTSTART;TZID=Europe/Berlin:20260615T190000
DTEND;TZID=Europe/Berlin:20260615T221500
DTSTAMP:20260421T165338
CREATED:20251105T164940Z
LAST-MODIFIED:20251106T111150Z
UID:5537-1781550000-1781561700@j-r-i.de
SUMMARY:SS26 Kasuistiken bei Beate Mahns (ausgebucht)
DESCRIPTION:Der Inhalt ist geschützt.
URL:https://j-r-i.de/event/ss26-kasuistiken-bei-beate-mahns/
LOCATION:JRI Seminarraum\, Stresemannplatz 4\, 3. OG (ohne Fahrstuhl!)\, Kiel\, 24103
END:VEVENT
BEGIN:VEVENT
DTSTART;TZID=Europe/Berlin:20260618T190000
DTEND;TZID=Europe/Berlin:20260618T221500
DTSTAMP:20260421T165338
CREATED:20251231T220546Z
LAST-MODIFIED:20251231T220546Z
UID:5812-1781809200-1781820900@j-r-i.de
SUMMARY:19 Umgang mit Affekten in der (Gegen-?) Übertragung Dr. med. Michael Meyer zum Wischen
DESCRIPTION:19 Umgang mit Affekten in der (Gegen-?) Übertragung\nDr. med. Michael Meyer zum Wischen\nDo\, 18.06.26\, 19:00-22:15 Uhr \nForm:            online via Zoom (2 DStd.\, TB6) \nFür:                AWT JRI/APH/PSIB & Gasthörende \nIn Fortführung des letzten Seminars zu Übertragung und Gegenübertragung sollen verschiedene Zugänge zum Umgang mit dem Affekt in der therapeutischen Situation diskutiert werden.
URL:https://j-r-i.de/event/19-umgang-mit-affekten-in-der-gegen-uebertragung-dr-med-michael-meyer-zum-wischen/
LOCATION:JRI online via Zoom (JRI-Wiki/Gasthör. jri@j-r-i.de)
END:VEVENT
BEGIN:VEVENT
DTSTART;TZID=Europe/Berlin:20260619T180000
DTEND;TZID=Europe/Berlin:20260619T211500
DTSTAMP:20260421T165338
CREATED:20251231T220738Z
LAST-MODIFIED:20251231T220738Z
UID:5814-1781892000-1781903700@j-r-i.de
SUMMARY:20.1 Kompaktseminar: Gruppentherapie
DESCRIPTION:20 Kompaktseminar: Gruppentherapie\nDipl.-Psych. Sabine Döring\, Dipl.-Psych. Thomas Fahl\, Dipl.-Päd. Marie-Alice Fernholz-Bialas\, Dr. med. Angelika Haub-Winkler\, Tom Lemke-Weinhold\, Prof. Dr. Aglaja Stirn \nTeil 1:  Fr\, 19.06.26\, 18:00-21:15 Uhr \nTeil 2: Sa\, 20.06.26\, 09:30-17:15 Uhr \nForm:            Fr:       online via Zoom (2 Dstd.\, TB6/GT) \nSa:     Präsenz im JRI (4 Dstd.\, TB6/GT) \nFür:                AWT des JRI & APH/PSIB\, Gasthörende nur in Präsenz (2. Teil) \nMit der Anmeldung ist die Teilnahme an beiden Teilen verbindlich! \nGemäß den Vorgaben der D3G soll es im Modul 4 um Gruppentherapien in stationären und tagesklinischen Settings gehen. \nStichworte: \n\nPsychoedukation als Vorbereitung\nGrundprinzipien stationärer und teilstationärer Psychotherapie\nBesonderheiten struktureller Störungen und psychosomatischer Erkrankungen\nKombinationsbehandlungen\nTherapeutische Aufgaben des Teams\nBesonderheiten bei Kindern und Jugendlichen\nOnlinegruppentherapie\n\nWie immer bei uns mit vielen Beispielen\, Rollenspielen\, aber teilweise auch eng am Theorietext. \nLiteratur:       Bernhard Strauß\, Gruppentherapie Grundlagen und integrative Konzepte\, Kohlhammer Verlag\, 2023 \nMit der Anmeldung für Teil 1 ist für beide Teile\, die Teilnahme an beiden verbindlich für die Erlangung der Teilnahmebescheinigung!
URL:https://j-r-i.de/event/20-1-kompaktseminar-gruppentherapie/
LOCATION:JRI online via Zoom (JRI-Wiki/Gasthör. jri@j-r-i.de)
END:VEVENT
BEGIN:VEVENT
DTSTART;TZID=Europe/Berlin:20260620T093000
DTEND;TZID=Europe/Berlin:20260620T171500
DTSTAMP:20260421T165338
CREATED:20251231T220907Z
LAST-MODIFIED:20251231T220907Z
UID:5816-1781947800-1781975700@j-r-i.de
SUMMARY:20.2 Kompaktseminar: Gruppentherapie
DESCRIPTION:20 Kompaktseminar: Gruppentherapie\nDipl.-Psych. Sabine Döring\, Dipl.-Psych. Thomas Fahl\, Dipl.-Päd. Marie-Alice Fernholz-Bialas\, Dr. med. Angelika Haub-Winkler\, Tom Lemke-Weinhold\, Prof. Dr. Aglaja Stirn \nTeil 1:  Fr\, 19.06.26\, 18:00-21:15 Uhr online via Zoom (2 Dstd.\, TB6/GT) \nTeil 2: Sa\, 20.06.26\, 09:30-17:15 Uhr Präsenz im JRI (4 Dstd.\, TB6/GT) \nFür: AWT des JRI & APH/PSIB\, Gasthörende nur in Präsenz (2. Teil) \nMit der Anmeldung ist die Teilnahme an beiden Teilen verbindlich! \nGemäß den Vorgaben der D3G soll es im Modul 4 um Gruppentherapien in stationären und tagesklinischen Settings gehen. \nStichworte: \n\nPsychoedukation als Vorbereitung\nGrundprinzipien stationärer und teilstationärer Psychotherapie\nBesonderheiten struktureller Störungen und psychosomatischer Erkrankungen\nKombinationsbehandlungen\nTherapeutische Aufgaben des Teams\nBesonderheiten bei Kindern und Jugendlichen\nOnlinegruppentherapie\n\nWie immer bei uns mit vielen Beispielen\, Rollenspielen\, aber teilweise auch eng am Theorietext. \nLiteratur:       Bernhard Strauß\, Gruppentherapie Grundlagen und integrative Konzepte\, Kohlhammer Verlag\, 2023 \nMit der Anmeldung erfolgt über Teil 1!
URL:https://j-r-i.de/event/20-2-kompaktseminar-gruppentherapie/
LOCATION:JRI Seminarraum\, Stresemannplatz 4\, 3. OG (ohne Fahrstuhl!)\, Kiel\, 24103
END:VEVENT
BEGIN:VEVENT
DTSTART;TZID=Europe/Berlin:20260629T190000
DTEND;TZID=Europe/Berlin:20260629T221500
DTSTAMP:20260421T165338
CREATED:20251105T165021Z
LAST-MODIFIED:20251222T101409Z
UID:5539-1782759600-1782771300@j-r-i.de
SUMMARY:SS26 Kasuistiken bei Dr. Mechthild Klingenburg-Vogel (ausgebucht)
DESCRIPTION:Der Inhalt ist geschützt.
URL:https://j-r-i.de/event/ss26-kasuistiken-bei-dr-mechthild-klingenburg-vogel/
LOCATION:JRI Seminarraum\, Stresemannplatz 4\, 3. OG (ohne Fahrstuhl!)\, Kiel\, 24103
END:VEVENT
BEGIN:VEVENT
DTSTART;TZID=Europe/Berlin:20260821T193000
DTEND;TZID=Europe/Berlin:20260821T210000
DTSTAMP:20260421T165338
CREATED:20260225T165340Z
LAST-MODIFIED:20260225T174748Z
UID:5987-1787340600-1787346000@j-r-i.de
SUMMARY:Safe the date: John-Rittmeister-Gedächtnisvorlesung - Vortragender: Dr. Matthias Oppermann
DESCRIPTION:KUNST UND PSYCHOANALYSE \nDas innere Bergwerk \nBildvergrabungen als Allegorie psychoanalytischer Transformationsprozesse \nVortrag von Dr. Matthias Oppermann \n„Im künstlerischen Langzeitprojekt „Bildvergrabungen – Kunst im Dialog mit der Erde“ begann 2017 ein Prozess\, in dem elf Gemälde zerschnitten und die 48 entstandenen Fragmente an unterschiedlichen Orten weltweit vergraben wurden. Über mehrere Jahre waren sie Erde\, Klima\, Mikroorganismen und Zeit ausgesetzt. Nach ihrer Ausgrabung zeigten sich die Bildteile gezeichnet\, fragmentiert\, teilweise beschädigt – und zugleich in neuer Form gefasst. Eine Auswahl der Arbeiten ist derzeit im Archäologischen Museum Hamburg zu sehen (bis April). \nDer Kulturtheoretiker Hartmut Böhme hat dem Projekt einen eigenen Essay gewidmet und es als Allegorie psychoanalytischer Prozesse gedeutet. Das Verbergen und Wiederauftauchen der Fragmente lässt sich als Bild für das Wirken des Unbewussten verstehen – als Schichtung\, Überlagerung und Transformation von Erfahrung. Das „innere Bergwerk“ bezeichnet dabei jenen Raum\, in dem Erinnerungen\, Bilder und Affekte sedimentieren\, sich verändern und unter bestimmten Bedingungen erneut hervortreten. \nDer Vortrag entfaltet ein Zwiegespräch zwischen künstlerischer Praxis\, kulturtheoretischer Reflexion und psychoanalytischer Erfahrung. Im Mittelpunkt steht die Frage\, wie Transformation geschieht – im materiellen Raum ebenso wie im psychischen – und welche Rolle Fragmentierung\, Fremdheit und Wiederbegegnung in diesem Prozess spielen. \nMatthias Oppermann ist Psychoanalytiker (DPV/IPV) in eigener Praxis in Hamburg und arbeitet zugleich als bildender Künstler mit regelmäßiger Ausstellungstätigkeit in Deutschland\, Dänemark und der Schweiz. Seine künstlerische Arbeit richtet sich auf Wahrnehmungs- und Bildentstehungsprozesse sowie auf die Brüche\, Verschiebungen und Leerstellen\, die Erinnerung und Formbildung strukturieren.“ \n  \nBitte beachten Sie\, dass die erwähnte Ausstellung noch bis zum 26.04.26 geht! Am 14.03.26 um 15:00 Uhr gibt Dr. Oppermann dort eine Führung. Dort sind die künstlerischen Transformationen\, um die es u.a. in dem Vortrag geht\, im Original zu sehen. Hier der Link zum Museum:  https://amh.de/ausstellung-ort/matthias-oppermann-bildvergrabungen-kunst-im-dialog-mit-der-erde/ \nDen Veranstaltungsort geben wir in Kürze bekannt!  \nWir freuen uns sehr über Ihre Anmeldungen bis zum 02.07.26!  \n 
URL:https://j-r-i.de/event/john-rittmeister-gedaechtnisvorlesung-21aug26/
END:VEVENT
BEGIN:VEVENT
DTSTART;TZID=Europe/Berlin:20260822T100000
DTEND;TZID=Europe/Berlin:20260822T113000
DTSTAMP:20260421T165338
CREATED:20260225T171013Z
LAST-MODIFIED:20260225T171013Z
UID:5989-1787392800-1787398200@j-r-i.de
SUMMARY:WS26: Große Fallvorstellung (intern)
DESCRIPTION:Große Fallvorstellung \nSamstag\, 22.08.26 um 10:00 bis ca. 11:30 Uhr (TB 7) im Seminarraum des JRI \nLeitung: Dr. Matthias Oppermann \nFallvortragender: Dipl.-Psych. Anja Lassen \n(Mitglieder & AWT unserer Kooperationsinstitute können online via Zoom teilnehmen. Bitte geben Sie Ihr Institutskürzel bei Anmeldung an!) \nLeider sind keine Gasthörenden zu dieser Veranstaltung zugelassen!
URL:https://j-r-i.de/event/ws26-grosse-fallvorstellung-22aug26/
LOCATION:JRI Seminarraum\, Stresemannplatz 4\, 3. OG (ohne Fahrstuhl!)\, Kiel\, 24103
END:VEVENT
BEGIN:VEVENT
DTSTART;VALUE=DATE:20260924
DTEND;VALUE=DATE:20260928
DTSTAMP:20260421T165338
CREATED:20251117T124455Z
LAST-MODIFIED:20251117T124455Z
UID:5637-1790208000-1790553599@j-r-i.de
SUMMARY:DGPT: 76. DGPT-Jahrestagung
DESCRIPTION:Datum24.09.2026 – 27.09.2026\nZeitAll day\nVeranstaltungsortInselhalle Lindau\n\n\n\n\nDie Deutsche Gesellschaft für Psychoanalyse\, Psychotherapie\, Psychosomatik und Tiefenpsychologie (DGPT) e.V. vertritt die Standes- und Berufsinteressen ihrer ca. 3.500 psychologischen und ärztlichen Mitglieder gegenüber der Selbstverwaltung im Gesundheitswesen und gegenüber der Politik auf Bundesebene. Die DGPT versteht sich als wissenschaftliche Fachgesellschaft und Berufsverband zugleich.  Sie stellt Grundanforderungen für die Weiterbildung an 58 staatlich anerkannten Aus- und Weiterbildungsinstituten auf. Die DGPT ist der Spitzenverband der psychoanalytischen Fachgesellschaften Deutsche Gesellschaft für Analytische Psychologie (DGAP)\, Deutsche Gesellschaft für Individualpsychologie e. V. (DGIP)\, Deutsche Psychoanalytische Gesellschaft (DPG)\, Deutsche Psychoanalytische Vereinigung (DPV) sowie des Netzwerks Freier Institute (NFIP). \n\nVeranstalter\n\nDGPT e.V.\nE-Mail: psa@dgpt.deWebseite: https://dgpt.de/Telefon: 030 8 87 16 39 30
URL:https://j-r-i.de/event/dgpt-76-dgpt-jahrestagung/
LOCATION:Inselhalle Lindau\, Zwanzigerstraße 10\, Lindau\, 88131\, Germany
END:VEVENT
BEGIN:VEVENT
DTSTART;VALUE=DATE:20261011
DTEND;VALUE=DATE:20261016
DTSTAMP:20260421T165338
CREATED:20251117T124841Z
LAST-MODIFIED:20251117T163437Z
UID:5643-1791676800-1792108799@j-r-i.de
SUMMARY:Lübecker Psychotherapietage (11.-15.10.2026))
DESCRIPTION:Lübecker Psychotherapietage 2026 finden\nin der Zeit vom 11. bis 15. Oktober statt.\nThema: „Worauf man sich verlassen kann“\nDie Lübecker Psychotherapietage sind eine Aus-\, Fort- und Weiterbildungsveranstaltung für Ärzt:innen\, Diplom- und Master-Psycholog:innen\, Kinder- und Jugendlichen-Psychotherapeut:innen\, Seelsorger:innen und Pastor:innen\, Gesundheits- und Krankenpfleger:innen aus psychotherapeutisch-psychosomatischen Einrichtungen\, Musik-\, Kunst-\, Gestaltungs-\, Tanz-\, Bewegungs- und Körpertherapeut:innen. Studierende nach Absprache. \nVon der Ärztekammer Schleswig-Holstein zertifiziert. Die Fortbildungspunkte werden von den Psychotherapeutenkammern anerkannt. \nTagungsbüro: Lübeck und Travemünde Marketing GmbH\, Holstentorplatz 1\, 23552 Lübeck Tagungsort: Oberschule zum Dom\, Domkirchhof 1-3\, 23552 Lübeck
URL:https://j-r-i.de/event/luebecker-psychotherapietage-11-15-10-2026/
LOCATION:https://www.luebecker-psychotherapietage.de/
END:VEVENT
BEGIN:VEVENT
DTSTART;TZID=Europe/Berlin:20261106T160000
DTEND;TZID=Europe/Berlin:20261107T181500
DTSTAMP:20260421T165338
CREATED:20260212T113006Z
LAST-MODIFIED:20260212T113147Z
UID:5968-1793980800-1794075300@j-r-i.de
SUMMARY:WS26: Kompaktseminar Thema 4: "Einführung in die Technik der psychoanalytischen und tiefen psychologischen Behandlung von Kindern\, Jugendlichen und Erwachsenen"
DESCRIPTION:Kompaktseminar im Wintersemester – Vorabinfo! \nThema 4: Einführung in die Technik der psychoanalytischen und tiefen psychologischen Behandlung von Kindern\, Jugendlichen und Erwachsenen \nLiebe AWT\, \nein elementarer Baustein Ihrer Ausbildung bei uns stellt das Kompaktseminar dar\, welche wir erneut mit Übernachtung organisieren! \nDer Umgang mit Abwehr und Widerstand\, das Arbeiten mit und in der Übertragung das Deuten von unbewussten Ängsten und Fantasien\, das Schweben zwischen sich verwickeln lassen und Abstinenz\, das Finden der dritten Position usw. \nIn vielen Gesprächen ist bei uns als Kompaktseminargruppe ein gewisses „Wir“ gewachsen und zu diesem „Wir“ gehören Sie als Auszubildende unbedingt dazu. Wir wollen im Nordkolleg Leben und Lernen ein wenig verbinden\, sich besser kennenlernen\, sich unterstützen. Gerade nach der eher trennenden Coronazeit wird ein solches Zusammenkommen uns allen guttun\, besonders natürlich denjenigen\, die sich neu im Ausbildungsbetrieb des JRI einfinden. \nDie Profession\, die wir ausüben und die Sie beginnen\, auszuüben führt leicht in die Vereinzelung\, unser Ziel ist es jedoch\, zu einem miteinander lernenden Wir-Gefühl zu kommen. Wir alle sind das JRI\, ein kleines aber durchaus feines Institut. Wir wissen\, dass ein direktes und persönliches Lernen miteinander befriedigend und erfolgreich ist. Die Dozent*innengruppe wächst langsam weiter\, auch uns macht es Spaß\, sich weiter zu entwickeln. Wir sind sicher\, dass wir alle miteinander etwas Gutes zustande bringen werden. \nMit herzlichem Gruß im Namen der Kompaktgruppe! \nDr. Horst Kämpfer \nLeitung: Jana Beckers\, Annette Heberlein\, Horst Kämpfer\, Janna Kleinstoll-Wein\, Dirk Krebs\, Djamila Mechler\, Anja Schröder-Braun \nForm: Präsenzseminar \nFreitag\, 06.11.26 & Samstag\, 07.11.26 (TB1 Umfang: 6 Dstd.) \nOrt: Sport- und Bildungszentrum Malente\, Eutiner Straße 45\, 23714 Bad Malente – Website \nThema: Natürlich wollen wir auch diesmal an der Idee festhalten\, dass alle Ausbildungsgänge am JRI gemeinsam die Kompaktseminare durchlaufen können. Wie schon bei der Neurosenlehre ist es auch hier nicht ganz einfach\, die Ausbildungsgänge zusammen zu bringen. Kinder sind meist in Bewegung und spielen\, mit oder auch ohne den/die Therapeuten_in\, Erwachsene sitzen oder liegen und sprechen. Auf jeden Fall haben wir es mit unterschiedlichen Äußerungsformen unserer Patienten_innen zu tun. Für uns TherapeutInnen verweisen aber die meisten Ausdrucksformen\, sei es nun Spiel\, Sprache\, Geste\, Verhalten\, Mimik\, Stimmung auf eine „tiefere“ Ebene\, auf einen Subtext\, auf eine weitere Bedeutung\, auf eine symbolische Ebene. Diese Basis gilt für alle Ausbildungsrichtungen. \nWir haben im letzten Kompaktseminar kleine Lehrteams gebildet\, jeweils ein/e Kollege_in aus der Erwachsenen- und der Kinderabteilung – eine sehr konstruktive Kombination. An dieser didaktischen Variante wollen wir auch dieses Mal festhalten. \nLiteratur: \nWolfgang Mertens: Psychoanalytische Behandlungstechnik. Kohlhammer Verlag\, Stuttgart 2015. \nSebastian Kudritzki/Catharina Salamander (Hrsg.): Psychodynamische Behandlungstechnik bei Kindern und Jugendlichen. Brandes & Apsel\, Frankfurt 2019. \nWir empfehlen Ihnen\, sich diese Bücher zu kaufen. Sie gehören gewissermaßen zur Basisbibliothek. \nZeitplan \n\n\n\nFreitag\, 06.11.26 (Änderungen werden ggf. vom Doz.-Team vor Ort mitgeteilt.)\n\n\n16:00 – 17:00 Uhr\nAnreise\n\n\n17:00 – 17:45 Uhr\nKennenlernen\n\n\n18:00 Uhr\nAbendessen\n\n\n18:45 – 20:15 Uhr\nSeminar Teil 1 (1 Dstd.)\n\n\n20:15 – 20:30 Uhr\nPause\n\n\n20:30 – 22:00 Uhr\nSeminar Teil 2 (1 Dstd.)\n\n\n \n \n\n\nSamstag\, 07.11.26 (Änderungen werden ggf. vom Doz.-Team vor Ort mitgeteilt.)\n\n\nbis 9:00 Uhr\nZimmer räumen\n\n\n08:00 Uhr\nFrühstücksbuffet\n\n\n09:00 – 10:30 Uhr\nSeminar Teil 3 (1 Dstd.)\n\n\n10:30 bis 11:00 Uhr\nPause\n\n\n11:00 – 11:45 Uhr\nSeminar Teil 4 (1/2 Dstd.)\n\n\n12:00 Uhr\nMittagessen\n\n\n13:45 – 15:15\nSeminar Teil 5 (1 Dstd.)\n\n\n15:15 bis 15:45\nKaffee/Tee mit Kuchen\n\n\n15:45 bis 17:15 Uhr\nSeminar Teil 6 (1 Dstd.)\n\n\n17:15 – 17:30 Uhr\nPause\n\n\n17:30 – 18:15 Uhr\nSeminar Teil 7 (1/2 Dstd.)\n\n\n\n  \nFolgend finden Sie einige Infos zum Seminar sowie Eindrücke von dem Sport- und Bildungszentrum Malente\, Eutiner Straße 45\, 23714 Bad Malente – https://www.sport-bildungszentrum-malente.de/ \nRezeptionszeiten: Freitag: 08:00 Uhr bis 19:30 Uhr\, Samstag: jeweils 08:00 Uhr bis 18:00 Uhr \nKartenzahlung: Info folgt \n Parkplätze: Info folgt \n Anmerkung: Das Sport- und Bildungszentrum Malente stellt Bettwäsche und ein Handtuchpacket. \nEssenszeiten: Die Mahlzeiten haben einen festen Startzeitpunkt und keinen Zeitraum\, in dem die Einnahme möglich ist! \nFrühstück um 08:00 Uhr\nMittagessen um 12:00 Uhr\nAbendessen um 18:00 Uhr \nGetränke: Die Unterkunft ist mit einer Bar ausgestattet\, bei der Wasser\, Softdrinks\, etc. käuflich erworben werden können. \nUmgebung: Einen halben Kilometer von der Unterkunft entfernt ist der Kellersee. Außerdem gibt es in direkter Nähe eine Weinbar und in 10 Minuten Gehentfernung einen Penny. Auch der Bahnhof „Bad Malente-Gremsmühlen Bahnhof“ ist in 20 Minuten Gehentfernung. \nZimmer: Doppelzimmer mit eigenem Bad und WC für alle AWT und Einzelzimmer mit eigenem Bad und WC für die Dozierenden. \nZimmerbelegungsplan: Folgt \nNach Anmeldung erhalten Sie eine Rechnung von uns über den Selbstkostenanteil. Bitte geben Sie zusätzlich Unverträglichkeiten beim Essen
URL:https://j-r-i.de/event/ws26-kompaktseminar-thema-4/
LOCATION:Sport- und Bildungszentrum Malente\, Eutiner Straße 45\, Bad Malente\, 23714\, Germany
END:VEVENT
END:VCALENDAR