BEGIN:VCALENDAR
VERSION:2.0
PRODID:-//https://j-r-i.de - ECPv6.15.20//NONSGML v1.0//EN
CALSCALE:GREGORIAN
METHOD:PUBLISH
X-WR-CALNAME:https://j-r-i.de
X-ORIGINAL-URL:https://j-r-i.de
X-WR-CALDESC:Veranstaltungen für https://j-r-i.de
REFRESH-INTERVAL;VALUE=DURATION:PT1H
X-Robots-Tag:noindex
X-PUBLISHED-TTL:PT1H
BEGIN:VTIMEZONE
TZID:Europe/Berlin
BEGIN:DAYLIGHT
TZOFFSETFROM:+0100
TZOFFSETTO:+0200
TZNAME:CEST
DTSTART:20250330T010000
END:DAYLIGHT
BEGIN:STANDARD
TZOFFSETFROM:+0200
TZOFFSETTO:+0100
TZNAME:CET
DTSTART:20251026T010000
END:STANDARD
BEGIN:DAYLIGHT
TZOFFSETFROM:+0100
TZOFFSETTO:+0200
TZNAME:CEST
DTSTART:20260329T010000
END:DAYLIGHT
BEGIN:STANDARD
TZOFFSETFROM:+0200
TZOFFSETTO:+0100
TZNAME:CET
DTSTART:20261025T010000
END:STANDARD
BEGIN:DAYLIGHT
TZOFFSETFROM:+0100
TZOFFSETTO:+0200
TZNAME:CEST
DTSTART:20270328T010000
END:DAYLIGHT
BEGIN:STANDARD
TZOFFSETFROM:+0200
TZOFFSETTO:+0100
TZNAME:CET
DTSTART:20271031T010000
END:STANDARD
END:VTIMEZONE
BEGIN:VEVENT
DTSTART;TZID=Europe/Berlin:20260420T190000
DTEND;TZID=Europe/Berlin:20260420T221500
DTSTAMP:20260420T073024
CREATED:20251105T164725Z
LAST-MODIFIED:20260130T095345Z
UID:5529-1776711600-1776723300@j-r-i.de
SUMMARY:SS26 Kasuistiken bei Gudrun Barthel (ausgebucht\, statt Fr. Dr. Zapp-Brauer)
DESCRIPTION:Der Inhalt ist geschützt.
URL:https://j-r-i.de/event/ss26-kasuistiken-bei-dr-gudrun-zapp-brauer/
LOCATION:JRI Seminarraum\, Stresemannplatz 4\, 3. OG (ohne Fahrstuhl!)\, Kiel\, 24103
END:VEVENT
END:VCALENDAR